BEGIN:VCALENDAR
VERSION:2.0
PRODID:-//Ambipar Response Training Center ARTC - ECPv6.0.4//NONSGML v1.0//EN
CALSCALE:GREGORIAN
METHOD:PUBLISH
X-ORIGINAL-URL:https://ambipar.com/artc
X-WR-CALDESC:Events for Ambipar Response Training Center ARTC
REFRESH-INTERVAL;VALUE=DURATION:PT1H
X-Robots-Tag:noindex
X-PUBLISHED-TTL:PT1H
BEGIN:VTIMEZONE
TZID:UTC
BEGIN:STANDARD
TZOFFSETFROM:+0000
TZOFFSETTO:+0000
TZNAME:UTC
DTSTART:20250101T000000
END:STANDARD
END:VTIMEZONE
BEGIN:VEVENT
DTSTART;VALUE=DATE:20251006
DTEND;VALUE=DATE:20251011
DTSTAMP:20260422T214552
CREATED:20241015T152126Z
LAST-MODIFIED:20241015T152207Z
UID:15191-1759708800-1760140799@ambipar.com
SUMMARY:ARTC – Compressed Gas – Specialist – AVAILABLE SEATS
DESCRIPTION:DATE: October 06 – 10 \nCOURSE LOAD: 3 days (24 hours) \nDESCRIPTION: \nThis 24-hour course will focus on compressed gas emergencies. Students will be instructed on: \n\nCompressed\, liquefied and cryogenic gas behavior\nEmergency response techniques.\nContainers (cylinders\, highway cargo tanks and pressure rail cars)\nGas detection\nDamage assessment\, auto refrigeration\, pressure control\nFreeze patching\, transfers and flaring.\n\nThis course is approximately 50/50 mix of classroom and hands-on training. \nPRE-REQUISITES: \n\nHazardous Materials\nTechnician or Specialist Employee
URL:https://ambipar.com/artc/event/artc-compressed-gas-specialist-available-seats/
END:VEVENT
BEGIN:VEVENT
DTSTART;VALUE=DATE:20251103
DTEND;VALUE=DATE:20251108
DTSTAMP:20260422T214552
CREATED:20241015T152215Z
LAST-MODIFIED:20241015T152628Z
UID:15194-1762128000-1762559999@ambipar.com
SUMMARY:ARTC – Highway Emergency Response – AVAILABLE SEATS
DESCRIPTION:DATE: November 03 – 07 \nCOURSE LOAD: 5 days (40 hours) \nDESCRIPTION: \nThis 40-hour course is focused on the most common highway containers of hazardous materials and how to manage emergencies with each container and its lading. Students will learn how 406\, 407\, 412\, 331 and 338 spec containers are built and designed to function in day-to-day operations as well as emergencies. Damage assessment\, leak\ncontrol\, product transfer\, flaring\, up righting of containers as well as clean and purges will be addressed. The course is 60% classroom and 40% field work. \nPRE-REQUISITES: Hazardous Materials Technician
URL:https://ambipar.com/artc/event/artc-highway-emergency-response-available-seats-2/
END:VEVENT
BEGIN:VEVENT
DTSTART;VALUE=DATE:20251117
DTEND;VALUE=DATE:20251122
DTSTAMP:20260422T214552
CREATED:20241015T152641Z
LAST-MODIFIED:20241015T153150Z
UID:15197-1763337600-1763769599@ambipar.com
SUMMARY:ARTC – Confined Space / Rope Rescue – AVAILABLE SEATS
DESCRIPTION:DATE: November 17 – 21 \nCOURSE LOAD: 5 days (40 hours) \nDESCRIPTION: \nThis intensive 40-hour provides hands-on training and real-life scenarios allowing the student to gain confidence in this dangerous environment.\nThe skills taught include: \n\nRescuer safety\nCommunication systems\nLock-out\, tag-out\nRope systems for confined space entry & rescue.\nEquipment selection.\nKnots\, anchors\, lowering systems\nKnot passing through rappels\nRaising and lowering systems; systems safety\nfactors\nPractical application is taught through scenarios\ndrawn from actual rescue experiences\, and\nmore.\n\nPRE-REQUISITES: None
URL:https://ambipar.com/artc/event/artc-confined-space-rope-rescue-available-seats-4/
END:VEVENT
BEGIN:VEVENT
DTSTART;VALUE=DATE:20251208
DTEND;VALUE=DATE:20251220
DTSTAMP:20260422T214552
CREATED:20241015T153201Z
LAST-MODIFIED:20241015T153338Z
UID:15200-1765152000-1766188799@ambipar.com
SUMMARY:ARTC – HazMat Technician + Transfer Specialist – AVAILABLE SEATS
DESCRIPTION:DATE: December 08 – 19 \nCOURSE LOAD: 2 weeks (80 hours) \nDESCRIPTION: \nThis 80-hour hands-on learning experience will allow the student to take full advantage of the Pueblo Training Center’s capabilities encompassing: \n\nHazMat Behaviors and Characteristics.\nHazMat Response Information Sources.\nHazMat PPE.\nChemical Detection and Identification.\nSpill and Leak Control.\nDecontamination.\nTransport Containers and Features (Rail\, Highway\,\nand Intermodal).\nTransfer Operations to include:\n− Grounding and Bonding\n− Pumping Operations\n− Pressure Differential Operations\n− Flaring and Scrubbing\nFull-Scale Response Exercises and Drills\nencompassing all the above\n\nPRE-REQUISITES: None
URL:https://ambipar.com/artc/event/artc-hazmat-technician-transfer-specialist-available-seats-6/
END:VEVENT
END:VCALENDAR