BEGIN:VCALENDAR
VERSION:2.0
PRODID:-//Ambipar Response Training Center ARTC - ECPv6.0.4//NONSGML v1.0//EN
CALSCALE:GREGORIAN
METHOD:PUBLISH
X-ORIGINAL-URL:https://ambipar.com/artc
X-WR-CALDESC:Events for Ambipar Response Training Center ARTC
REFRESH-INTERVAL;VALUE=DURATION:PT1H
X-Robots-Tag:noindex
X-PUBLISHED-TTL:PT1H
BEGIN:VTIMEZONE
TZID:UTC
BEGIN:STANDARD
TZOFFSETFROM:+0000
TZOFFSETTO:+0000
TZNAME:UTC
DTSTART:20250101T000000
END:STANDARD
END:VTIMEZONE
BEGIN:VEVENT
DTSTART;VALUE=DATE:20250505
DTEND;VALUE=DATE:20250510
DTSTAMP:20260422T133359
CREATED:20241015T150604Z
LAST-MODIFIED:20241015T150645Z
UID:15167-1746403200-1746835199@ambipar.com
SUMMARY:ARTC – Highway Emergency Response – AVAILABLE SEATS
DESCRIPTION:DATE: May 05 – 09 \nCOURSE LOAD: 5 days (40 hours) \nDESCRIPTION: \nThis 40-hour course is focused on the most common highway containers of hazardous materials and how to manage emergencies with each container and its lading. Students will learn how 406\, 407\, 412\, 331 and 338 spec containers are built and designed to function in day-to-day operations as well as emergencies. Damage assessment\, leak\ncontrol\, product transfer\, flaring\, up righting of containers as well as clean and purges will be addressed. The course is 60% classroom and 40% field work. \nPRE-REQUISITES: Hazardous Materials Technician
URL:https://ambipar.com/artc/event/artc-highway-emergency-response-available-seats/
END:VEVENT
BEGIN:VEVENT
DTSTART;VALUE=DATE:20250519
DTEND;VALUE=DATE:20250524
DTSTAMP:20260422T133359
CREATED:20241015T150653Z
LAST-MODIFIED:20241015T150901Z
UID:15170-1747612800-1748044799@ambipar.com
SUMMARY:ARTC – HazMat Technician Refresher – AVAILABLE SEATS
DESCRIPTION:DATE: May 19 – 23 \nCOURSE LOAD: 5 days (40 hours) \nDESCRIPTION: \nThis 40-hour course focus on emergencies involving hazardous materials. \nStudents will learn: \n\nChemistry and toxicology of hazardous materials\nDangerous properties of chemicals\nUse of detection instruments\nDecontamination\nSelection of use of chemical protective clothing with hands-on practice.\n\nThis course meets the training requirement of the NFPA 470 standard\, version 2022\, Level A\, B and C CPC\nTrained;“ Chapter 10 of NFPA 472\, Chapter 11 of NFPA 1072\, OSHA standard 29 cfr. 1910.120 (q)(6)(iii) for Hazardous Materials Technicians and ARTC Programs.\nThe course is 20% classroom and 80% field work. \nPRE-REQUISITES: None
URL:https://ambipar.com/artc/event/artc-hazmat-technician-refresher-available-seats-2/
END:VEVENT
END:VCALENDAR